BEGIN:VCALENDAR
VERSION:2.0
PRODID:-//Friedliche Revolution - Plauen/Vogtland 1989 - ECPv6.15.20//NONSGML v1.0//EN
CALSCALE:GREGORIAN
METHOD:PUBLISH
X-WR-CALNAME:Friedliche Revolution - Plauen/Vogtland 1989
X-ORIGINAL-URL:https://www.vogtland89.de
X-WR-CALDESC:Veranstaltungen für Friedliche Revolution - Plauen/Vogtland 1989
REFRESH-INTERVAL;VALUE=DURATION:PT1H
X-Robots-Tag:noindex
X-PUBLISHED-TTL:PT1H
BEGIN:VTIMEZONE
TZID:Europe/Berlin
BEGIN:DAYLIGHT
TZOFFSETFROM:+0100
TZOFFSETTO:+0200
TZNAME:CEST
DTSTART:20250330T010000
END:DAYLIGHT
BEGIN:STANDARD
TZOFFSETFROM:+0200
TZOFFSETTO:+0100
TZNAME:CET
DTSTART:20251026T010000
END:STANDARD
BEGIN:DAYLIGHT
TZOFFSETFROM:+0100
TZOFFSETTO:+0200
TZNAME:CEST
DTSTART:20260329T010000
END:DAYLIGHT
BEGIN:STANDARD
TZOFFSETFROM:+0200
TZOFFSETTO:+0100
TZNAME:CET
DTSTART:20261025T010000
END:STANDARD
BEGIN:DAYLIGHT
TZOFFSETFROM:+0100
TZOFFSETTO:+0200
TZNAME:CEST
DTSTART:20270328T010000
END:DAYLIGHT
BEGIN:STANDARD
TZOFFSETFROM:+0200
TZOFFSETTO:+0100
TZNAME:CET
DTSTART:20271031T010000
END:STANDARD
END:VTIMEZONE
BEGIN:VEVENT
DTSTART;TZID=Europe/Berlin:20260320T183000
DTEND;TZID=Europe/Berlin:20260320T200000
DTSTAMP:20260420T223517
CREATED:20260316T202201Z
LAST-MODIFIED:20260316T202202Z
UID:1842-1774031400-1774036800@www.vogtland89.de
SUMMARY:Lesung neues Erinnerungsbuch
DESCRIPTION:Frank Heidan liest am 20. März aus dem Buch »Verzweiflung und Aufbruch – Erinnerungen an den Herbst 1989 in Plauen«. Los geht es um 18.30 Uhr im Quartier 30 in der Bahnhofstraße. Zeitzeugen berichten in dem Buch von der ersten Demonstration in Plauen\, die bereits am 7. Oktober 1989 stattfand\, und von der Ereignissen der Friedlichen Revolution. Wichtig ist dabei auch die Erinnerung an das\, was die Menschen damals auf die Straße trieb: ein Gefühle von tiefer Verzweiflung und Aufbruch. Auch an das verdienstvolle Wirken des ehemaligen Superintendenten Thomas Küttler (1937 – 2019) wird dabei gedacht. Er vermittelte damals zwischen Demonstranten und Staat\, ebnete so den Weg zum friedlichen Dialog.
URL:https://www.vogtland89.de/termin/lesung-neues-erinnerungsbuch/
LOCATION:Quartier 30\, Bahnhofstr. 30\, Plauen\, Sachsen\, 08523\, Germany
CATEGORIES:Lesung
ATTACH;FMTTYPE=image/jpeg:https://www.vogtland89.de/wp-content/uploads/2026/03/heidan-lesung-maerz2026.jpg
ORGANIZER;CN="Stadt Plauen":MAILTO:steffi.behncke@plauen.de
END:VEVENT
END:VCALENDAR