BEGIN:VCALENDAR
VERSION:2.0
PRODID:-//Friedliche Revolution - Plauen/Vogtland 1989 - ECPv6.15.20//NONSGML v1.0//EN
CALSCALE:GREGORIAN
METHOD:PUBLISH
X-ORIGINAL-URL:https://www.vogtland89.de
X-WR-CALDESC:Veranstaltungen für Friedliche Revolution - Plauen/Vogtland 1989
REFRESH-INTERVAL;VALUE=DURATION:PT1H
X-Robots-Tag:noindex
X-PUBLISHED-TTL:PT1H
BEGIN:VTIMEZONE
TZID:Europe/Berlin
BEGIN:DAYLIGHT
TZOFFSETFROM:+0100
TZOFFSETTO:+0200
TZNAME:CEST
DTSTART:20210328T010000
END:DAYLIGHT
BEGIN:STANDARD
TZOFFSETFROM:+0200
TZOFFSETTO:+0100
TZNAME:CET
DTSTART:20211031T010000
END:STANDARD
BEGIN:DAYLIGHT
TZOFFSETFROM:+0100
TZOFFSETTO:+0200
TZNAME:CEST
DTSTART:20220327T010000
END:DAYLIGHT
BEGIN:STANDARD
TZOFFSETFROM:+0200
TZOFFSETTO:+0100
TZNAME:CET
DTSTART:20221030T010000
END:STANDARD
BEGIN:DAYLIGHT
TZOFFSETFROM:+0100
TZOFFSETTO:+0200
TZNAME:CEST
DTSTART:20230326T010000
END:DAYLIGHT
BEGIN:STANDARD
TZOFFSETFROM:+0200
TZOFFSETTO:+0100
TZNAME:CET
DTSTART:20231029T010000
END:STANDARD
END:VTIMEZONE
BEGIN:VEVENT
DTSTART;TZID=Europe/Berlin:20220930T180000
DTEND;TZID=Europe/Berlin:20220930T200000
DTSTAMP:20260425T143102
CREATED:20220920T125250Z
LAST-MODIFIED:20220920T125250Z
UID:1432-1664560800-1664568000@www.vogtland89.de
SUMMARY:Podiumsdiskussion: Zukunftszentrum - wie geht`s weiter?
DESCRIPTION:Am Tag\, an dem die gemeinsame Bewerbung der Städte Leipzig und Plauen für das Zukunftszentrum für Deutsche Einheit und Europäische Transformation und eingereicht wird\, will der Verein Vogtland 89 e.V. mit Vertretern beider Städte über Inhalt und Chancen dieser Bewerbung sprechen. Insbesondere soll es dabei gehen\, inwieweit die notwendige Aufarbeitung und Vermittlung der Friedlichen Revolution an die nachwachsende Generation in einer solchen Einrichtung verankert werden soll. \nGäste: \n\nGesine Oltmanns\, Stiftung Friedliche Revolution\, Leipzig\nTobias Kämpf\, Bürgermeister für Kultur\, Jugend\, Soziales\, Schulen und Sport der Stadt Plauen\nGerd Naumann\, Historiker\, Vogtland 89 e.V.\, Plauen\nModerator: Dirk Heinze\, Vogtland 89 e.V.\, Plauen
URL:https://www.vogtland89.de/termin/zukunftszentrum/
LOCATION:Malzhaus Plauen\, Alter Teich 7\, Plauen\, Sachsen\, 08527\, Deutschland
CATEGORIES:Infoabend,Podiumsdiskussion
ATTACH;FMTTYPE=image/jpeg:https://www.vogtland89.de/wp-content/uploads/2022/09/MfS_BV-KMS_Abt-XX_Nr-2733_Bl-02_Bild-074_ArchivVogtland89.jpg
ORGANIZER;CN="Vogtland 89 e.V.":MAILTO:verein@vogtland89.de
END:VEVENT
END:VCALENDAR