BEGIN:VCALENDAR
VERSION:2.0
PRODID:-//Friedliche Revolution - Plauen/Vogtland 1989 - ECPv6.15.20//NONSGML v1.0//EN
CALSCALE:GREGORIAN
METHOD:PUBLISH
X-WR-CALNAME:Friedliche Revolution - Plauen/Vogtland 1989
X-ORIGINAL-URL:https://www.vogtland89.de
X-WR-CALDESC:Veranstaltungen für Friedliche Revolution - Plauen/Vogtland 1989
REFRESH-INTERVAL;VALUE=DURATION:PT1H
X-Robots-Tag:noindex
X-PUBLISHED-TTL:PT1H
BEGIN:VTIMEZONE
TZID:Europe/Berlin
BEGIN:DAYLIGHT
TZOFFSETFROM:+0100
TZOFFSETTO:+0200
TZNAME:CEST
DTSTART:20240331T010000
END:DAYLIGHT
BEGIN:STANDARD
TZOFFSETFROM:+0200
TZOFFSETTO:+0100
TZNAME:CET
DTSTART:20241027T010000
END:STANDARD
BEGIN:DAYLIGHT
TZOFFSETFROM:+0100
TZOFFSETTO:+0200
TZNAME:CEST
DTSTART:20250330T010000
END:DAYLIGHT
BEGIN:STANDARD
TZOFFSETFROM:+0200
TZOFFSETTO:+0100
TZNAME:CET
DTSTART:20251026T010000
END:STANDARD
BEGIN:DAYLIGHT
TZOFFSETFROM:+0100
TZOFFSETTO:+0200
TZNAME:CEST
DTSTART:20260329T010000
END:DAYLIGHT
BEGIN:STANDARD
TZOFFSETFROM:+0200
TZOFFSETTO:+0100
TZNAME:CET
DTSTART:20261025T010000
END:STANDARD
END:VTIMEZONE
BEGIN:VEVENT
DTSTART;TZID=Europe/Berlin:20251004T170000
DTEND;TZID=Europe/Berlin:20251004T190000
DTSTAMP:20260421T090143
CREATED:20251001T030039Z
LAST-MODIFIED:20251001T030230Z
UID:1733-1759597200-1759604400@www.vogtland89.de
SUMMARY:Nacht der Kerzen 2025
DESCRIPTION:Mit der „Nacht der Kerzen“ soll der Funke der Friedlichen Revolution am 7. Oktober 1989 in Plauen und der Mut der tausenden Bürger von damals gefeiert\, ins Bewusstsein geholt\, weiter wachgehalten und besonderes der jüngeren Generation vermittelt werden.
URL:https://www.vogtland89.de/termin/nacht-der-kerzen-2025/
LOCATION:Thomas-Küttler-Platz Plauen\, Melanchtonstraße 1\, Plauen\, Sachsen\, 08523\, Germany
CATEGORIES:Festakt
ATTACH;FMTTYPE=image/jpeg:https://www.vogtland89.de/wp-content/uploads/2025/10/nacht-der-kerzen.jpeg
END:VEVENT
END:VCALENDAR