BEGIN:VCALENDAR
VERSION:2.0
PRODID:-//Friedliche Revolution - Plauen/Vogtland 1989 - ECPv6.15.20//NONSGML v1.0//EN
CALSCALE:GREGORIAN
METHOD:PUBLISH
X-ORIGINAL-URL:https://www.vogtland89.de
X-WR-CALDESC:Veranstaltungen für Friedliche Revolution - Plauen/Vogtland 1989
REFRESH-INTERVAL;VALUE=DURATION:PT1H
X-Robots-Tag:noindex
X-PUBLISHED-TTL:PT1H
BEGIN:VTIMEZONE
TZID:Europe/Berlin
BEGIN:DAYLIGHT
TZOFFSETFROM:+0100
TZOFFSETTO:+0200
TZNAME:CEST
DTSTART:20210328T010000
END:DAYLIGHT
BEGIN:STANDARD
TZOFFSETFROM:+0200
TZOFFSETTO:+0100
TZNAME:CET
DTSTART:20211031T010000
END:STANDARD
BEGIN:DAYLIGHT
TZOFFSETFROM:+0100
TZOFFSETTO:+0200
TZNAME:CEST
DTSTART:20220327T010000
END:DAYLIGHT
BEGIN:STANDARD
TZOFFSETFROM:+0200
TZOFFSETTO:+0100
TZNAME:CET
DTSTART:20221030T010000
END:STANDARD
BEGIN:DAYLIGHT
TZOFFSETFROM:+0100
TZOFFSETTO:+0200
TZNAME:CEST
DTSTART:20230326T010000
END:DAYLIGHT
BEGIN:STANDARD
TZOFFSETFROM:+0200
TZOFFSETTO:+0100
TZNAME:CET
DTSTART:20231029T010000
END:STANDARD
END:VTIMEZONE
BEGIN:VEVENT
DTSTART;TZID=Europe/Berlin:20221111T110000
DTEND;TZID=Europe/Berlin:20221111T123000
DTSTAMP:20260425T141517
CREATED:20221108T204115Z
LAST-MODIFIED:20221108T204115Z
UID:1573-1668164400-1668169800@www.vogtland89.de
SUMMARY:Hüben und Drüben - wie Jugendliche den Mauerfall erlebt haben
DESCRIPTION:Dokumentarfilm von Hofer Schülern\, Produktion: Jakob Schwanck\, Florian Czekalla (33 min) \n1989 –  Die Mauer fällt. Wie war dieses bedeutende Ereignis damals für Jugendliche\, die zu dieser Zeit in Oberfranken und Grenznähe gelebt haben? Welche positiven oder negativen Konsequenzen gab es für das eigene Leben? Welche Sichtweisen auf den jeweils anderen Teil Deutschlands gab es vor dem Mauerfall und welche danach? Im Film werden interessante Interviews mit Zeitzeugen sowohl aus der Perspektive von DDR-Bürgern\, als auch aus der Sicht der Bundesbürger geführt\, erläutert und mit teilweise bisher unveröffentlichtem Bild- und Videomaterial aus der damaligen Zeit ergänzt. Der Schülerfilm zweier Hofer Gymnasiasten wurde im Mai 2022 durch die Jury des bundesweiten Wettbewerbs „Umbruchszeiten“ in Berlin mit einem 3. Preis gewürdigt. \nZu Gast: Jacob Schwanck und Florian Czekalla (Produzenten) \nVeranstalter: Stadt Hof & Stadt Plauen\nDer Eintritt zu allen Vorführungen ist frei.\nSchulklassen und Gruppen wird empfohlen\, sich telefonisch verbindlich anzumelden. Es besteht kein Anspruch auf einen Sitzplatz.
URL:https://www.vogtland89.de/termin/hueben-und-drueben-wie-jugendliche-den-mauerfall-erlebt-haben/
LOCATION:Central Kino Hof\, Altstadt 8\, Hof\, Bayern\, 95028\, Deutschland
CATEGORIES:Filmvorführung
ATTACH;FMTTYPE=image/jpeg:https://www.vogtland89.de/wp-content/uploads/2022/11/filmtage2022.jpg
ORGANIZER;CN="Stadt Hof":MAILTO:juergen.stader@stadt-hof.de
END:VEVENT
END:VCALENDAR